BEGIN:VCALENDAR
VERSION:2.0
PRODID:-//pretix//pretix.eu//
BEGIN:VTIMEZONE
TZID:Europe/Berlin
BEGIN:STANDARD
DTSTART:20001029T040000
RRULE:FREQ=YEARLY;BYDAY=-1SU;BYMONTH=10
TZNAME:CET
TZOFFSETFROM:+0200
TZOFFSETTO:+0100
END:STANDARD
BEGIN:DAYLIGHT
DTSTART:20000326T030000
RRULE:FREQ=YEARLY;BYDAY=-1SU;BYMONTH=3
TZNAME:CEST
TZOFFSETFROM:+0100
TZOFFSETTO:+0200
END:DAYLIGHT
END:VTIMEZONE
BEGIN:VEVENT
UID:pretix-hra.thementag-PromTag26-0@tickets.hra.events
DTSTART;TZID=Europe/Berlin:20260521T090000
DTEND;TZID=Europe/Berlin:20260521T170000
DESCRIPTION:Tickets: https://tickets.hra.events/PromTag26/\nOrganizer: Hamb
 urg Research Academy
DTSTAMP:20260420T072436Z
LOCATION:Betahaus\, Eifflerstraße 43\, 22769 Hamburg
SUMMARY:HRA Promovierendentag 2026: Your Career\, Your Story – Karriereen
 twicklung für Promovierende
END:VEVENT
BEGIN:VEVENT
UID:pretix-hra.thementag-3MT-2026-0@tickets.hra.events
DTSTART;TZID=Europe/Berlin:20260825T170000
DTEND;TZID=Europe/Berlin:20260825T210000
DESCRIPTION:Tickets: https://tickets.hra.events/3MT-2026/\nOrganizer: Hambu
 rg Research Academy
DTSTAMP:20260420T072436Z
LOCATION:Halle 424\, Stockmeyerstr. 43\, 20457 Hamburg
SUMMARY:3MT-Competition & Summer Party 2026
END:VEVENT
BEGIN:VEVENT
UID:pretix-hra.thementag-citywalks26-4813964@tickets.hra.events
DTSTART;TZID=Europe/Berlin:20260414T163000
DTEND;TZID=Europe/Berlin:20260414T183000
DESCRIPTION:Tickets: https://tickets.hra.events/citywalks26/4813964/\nOrgan
 izer: Hamburg Research Academy
DTSTAMP:20260420T072436Z
SUMMARY:HRA City Walk – Eppendorf
END:VEVENT
BEGIN:VEVENT
UID:pretix-hra.thementag-citywalks26-4813966@tickets.hra.events
DTSTART;TZID=Europe/Berlin:20260519T170000
DTEND;TZID=Europe/Berlin:20260519T190000
DESCRIPTION:Tickets: https://tickets.hra.events/citywalks26/4813966/\nOrgan
 izer: Hamburg Research Academy
DTSTAMP:20260420T072436Z
SUMMARY:HRA City Walk – Street Art Becomes Urban Art
END:VEVENT
BEGIN:VEVENT
UID:pretix-hra.thementag-citywalks26-4813968@tickets.hra.events
DTSTART;TZID=Europe/Berlin:20260611T163000
DTEND;TZID=Europe/Berlin:20260611T190000
DESCRIPTION:Tickets: https://tickets.hra.events/citywalks26/4813968/\nOrgan
 izer: Hamburg Research Academy
DTSTAMP:20260420T072436Z
SUMMARY:HRA City Walk – Bike Tour Through Ohlsdorf Cemetery (in German!)
END:VEVENT
BEGIN:VEVENT
UID:pretix-hra.thementag-citywalks26-4813973@tickets.hra.events
DTSTART;TZID=Europe/Berlin:20260714T150000
DTEND;TZID=Europe/Berlin:20260714T170000
DESCRIPTION:Tickets: https://tickets.hra.events/citywalks26/4813973/\nOrgan
 izer: Hamburg Research Academy
DTSTAMP:20260420T072436Z
SUMMARY:HRA City Walk – Energieberg Georgswerder
END:VEVENT
BEGIN:VEVENT
UID:pretix-hra.thementag-citywalks26-4813970@tickets.hra.events
DTSTART;TZID=Europe/Berlin:20260915T170000
DTEND;TZID=Europe/Berlin:20260915T190000
DESCRIPTION:Tickets: https://tickets.hra.events/citywalks26/4813970/\nOrgan
 izer: Hamburg Research Academy
DTSTAMP:20260420T072436Z
SUMMARY:HRA City Walk – Barmbek Nord
END:VEVENT
BEGIN:VEVENT
UID:pretix-hra.thementag-citywalks26-4843681@tickets.hra.events
DTSTART;TZID=Europe/Berlin:20261013T160000
DTEND;TZID=Europe/Berlin:20261013T170000
DESCRIPTION:Tickets: https://tickets.hra.events/citywalks26/4843681/\nOrgan
 izer: Hamburg Research Academy
DTSTAMP:20260420T072436Z
SUMMARY:HRA City Walk – Rickmer Rickmers
END:VEVENT
END:VCALENDAR
